BEGIN:VCALENDAR
VERSION:2.0
PRODID:-//wp-events-plugin.com//7.2.3.1//EN
TZID:America/New_York
X-WR-TIMEZONE:America/New_York
BEGIN:VEVENT
UID:98@rrhima.org
DTSTART;TZID=America/New_York:20260507T080000
DTEND;TZID=America/New_York:20260507T160000
DTSTAMP:20251209T013226Z
URL:https://rrhima.org/events/rrhima-annual-meeting-3/
SUMMARY:RRHIMA Annual Meeting
DESCRIPTION:Save the Date - RRHIMA Annual Meeting\n\nMay 7th\, 2026\n\n&nbs
 p\;
LOCATION:Eagle Vale\, 4344 Nine Mile Point Road\, Fairport\, NY\, 14450\, U
 nited States
X-APPLE-STRUCTURED-LOCATION;VALUE=URI;X-ADDRESS=4344 Nine Mile Point Road\,
  Fairport\, NY\, 14450\, United States;X-APPLE-RADIUS=100;X-TITLE=Eagle Va
 le:geo:0,0
END:VEVENT
BEGIN:VTIMEZONE
TZID:America/New_York
X-LIC-LOCATION:America/New_York
BEGIN:DAYLIGHT
DTSTART:20260308T030000
TZOFFSETFROM:-0500
TZOFFSETTO:-0400
TZNAME:EDT
END:DAYLIGHT
END:VTIMEZONE
END:VCALENDAR