BEGIN:VCALENDAR
VERSION:2.0
PRODID:-//wp-events-plugin.com//7.2.3.1//EN
TZID:America/New_York
X-WR-TIMEZONE:America/New_York
BEGIN:VEVENT
UID:104@rrhima.org
DTSTART;TZID=America/New_York:20260428T120000
DTEND;TZID=America/New_York:20260428T130000
DTSTAMP:20260122T033150Z
URL:https://rrhima.org/events/the-use-of-artificial-intelligence-in-the-co
 ding-space/
SUMMARY:The Use of Artificial Intelligence in the Coding Space
DESCRIPTION:AHIMA Domain:   Domain II. Information Protection: Access\, 
 Disclosure\, Archival\, Privacy and Security\nPresenter:  Karen M. Linde
 r\, MBA\, RHIA\, CCS\, CCS-P\, CHDA\, Director\, Coding\, Rochester Region
 al Health System\nRegister for this webinar and all webinars in the RRHIMA
  Spring Series!\n\nEach webinar is approved for 1 CEU by AHIMA and AAPC.
CATEGORIES:Webinars
END:VEVENT
BEGIN:VTIMEZONE
TZID:America/New_York
X-LIC-LOCATION:America/New_York
BEGIN:DAYLIGHT
DTSTART:20260308T030000
TZOFFSETFROM:-0500
TZOFFSETTO:-0400
TZNAME:EDT
END:DAYLIGHT
END:VTIMEZONE
END:VCALENDAR